BEGIN:VCALENDAR
VERSION:2.0
PRODID:-//North Kingston Hillwalking Club - ECPv6.15.17//NONSGML v1.0//EN
CALSCALE:GREGORIAN
METHOD:PUBLISH
X-WR-CALNAME:North Kingston Hillwalking Club
X-ORIGINAL-URL:https://kingstonhillwalking.club
X-WR-CALDESC:Events for North Kingston Hillwalking Club
REFRESH-INTERVAL;VALUE=DURATION:PT1H
X-Robots-Tag:noindex
X-PUBLISHED-TTL:PT1H
BEGIN:VTIMEZONE
TZID:Europe/London
BEGIN:DAYLIGHT
TZOFFSETFROM:+0000
TZOFFSETTO:+0100
TZNAME:BST
DTSTART:20210328T010000
END:DAYLIGHT
BEGIN:STANDARD
TZOFFSETFROM:+0100
TZOFFSETTO:+0000
TZNAME:GMT
DTSTART:20211031T010000
END:STANDARD
BEGIN:DAYLIGHT
TZOFFSETFROM:+0000
TZOFFSETTO:+0100
TZNAME:BST
DTSTART:20220327T010000
END:DAYLIGHT
BEGIN:STANDARD
TZOFFSETFROM:+0100
TZOFFSETTO:+0000
TZNAME:GMT
DTSTART:20221030T010000
END:STANDARD
BEGIN:DAYLIGHT
TZOFFSETFROM:+0000
TZOFFSETTO:+0100
TZNAME:BST
DTSTART:20230326T010000
END:DAYLIGHT
BEGIN:STANDARD
TZOFFSETFROM:+0100
TZOFFSETTO:+0000
TZNAME:GMT
DTSTART:20231029T010000
END:STANDARD
END:VTIMEZONE
BEGIN:VEVENT
DTSTART;VALUE=DATE:20220312
DTEND;VALUE=DATE:20220313
DTSTAMP:20260426T050943
CREATED:20220130T091154Z
LAST-MODIFIED:20220130T091656Z
UID:2005-1647043200-1647129599@kingstonhillwalking.club
SUMMARY:Day walk on 12 March - Shamley Green
DESCRIPTION:Chris is leading this 9.5 mile walk from Shamley Green\, visiting Hascombe with its pond\, lovely 16th and 17th Century cottages and pub\, the White Horse Inn\, for a possible drink. However\, people may prefer to wait until the end of the walk for the choice of 2 pubs or the Speckeldy Hen Coffee Shop at Shamley Green. \nPlease use the comment form below to get in touch about this walk
URL:https://kingstonhillwalking.club/event/day-walk-march22/
LOCATION:Surrey
CATEGORIES:Day walk
END:VEVENT
END:VCALENDAR