BEGIN:VCALENDAR
VERSION:2.0
PRODID:-//North Kingston Hillwalking Club - ECPv6.15.17//NONSGML v1.0//EN
CALSCALE:GREGORIAN
METHOD:PUBLISH
X-ORIGINAL-URL:https://kingstonhillwalking.club
X-WR-CALDESC:Events for North Kingston Hillwalking Club
REFRESH-INTERVAL;VALUE=DURATION:PT1H
X-Robots-Tag:noindex
X-PUBLISHED-TTL:PT1H
BEGIN:VTIMEZONE
TZID:Europe/London
BEGIN:DAYLIGHT
TZOFFSETFROM:+0000
TZOFFSETTO:+0100
TZNAME:BST
DTSTART:20210328T010000
END:DAYLIGHT
BEGIN:STANDARD
TZOFFSETFROM:+0100
TZOFFSETTO:+0000
TZNAME:GMT
DTSTART:20211031T010000
END:STANDARD
BEGIN:DAYLIGHT
TZOFFSETFROM:+0000
TZOFFSETTO:+0100
TZNAME:BST
DTSTART:20220327T010000
END:DAYLIGHT
BEGIN:STANDARD
TZOFFSETFROM:+0100
TZOFFSETTO:+0000
TZNAME:GMT
DTSTART:20221030T010000
END:STANDARD
BEGIN:DAYLIGHT
TZOFFSETFROM:+0000
TZOFFSETTO:+0100
TZNAME:BST
DTSTART:20230326T010000
END:DAYLIGHT
BEGIN:STANDARD
TZOFFSETFROM:+0100
TZOFFSETTO:+0000
TZNAME:GMT
DTSTART:20231029T010000
END:STANDARD
END:VTIMEZONE
BEGIN:VEVENT
DTSTART;VALUE=DATE:20221021
DTEND;VALUE=DATE:20221022
DTSTAMP:20260425T171921
CREATED:20220915T062731Z
LAST-MODIFIED:20220915T062731Z
UID:2170-1666310400-1666396799@kingstonhillwalking.club
SUMMARY:Day walk on Friday 21 October - Westcott
DESCRIPTION:Anne will be organising the October day walk which will be on Friday 21st. \nWe will be walking from Westcott along some of the less visited footpaths (to avoid too many bikers\, horses etc).  Approx 9 miles to take in the White Downs\, Abinger Roughs\, Abinger Common and Mad Horse Copse.  Wonderful Surrey countryside\, farmland and views without hitting the busiest locations.\n\nPlan for a picnic although we’ll pass some pubs on route.  Dog friendly.\n\nPlease use the comment form below get in touch about this walk.
URL:https://kingstonhillwalking.club/event/day-walk-on-friday-21-october-westcott/
LOCATION:Surrey
CATEGORIES:Day walk
END:VEVENT
END:VCALENDAR