BEGIN:VCALENDAR
VERSION:2.0
PRODID:-//North Kingston Hillwalking Club - ECPv6.15.17//NONSGML v1.0//EN
CALSCALE:GREGORIAN
METHOD:PUBLISH
X-WR-CALNAME:North Kingston Hillwalking Club
X-ORIGINAL-URL:https://kingstonhillwalking.club
X-WR-CALDESC:Events for North Kingston Hillwalking Club
REFRESH-INTERVAL;VALUE=DURATION:PT1H
X-Robots-Tag:noindex
X-PUBLISHED-TTL:PT1H
BEGIN:VTIMEZONE
TZID:Europe/London
BEGIN:DAYLIGHT
TZOFFSETFROM:+0000
TZOFFSETTO:+0100
TZNAME:BST
DTSTART:20220327T010000
END:DAYLIGHT
BEGIN:STANDARD
TZOFFSETFROM:+0100
TZOFFSETTO:+0000
TZNAME:GMT
DTSTART:20221030T010000
END:STANDARD
BEGIN:DAYLIGHT
TZOFFSETFROM:+0000
TZOFFSETTO:+0100
TZNAME:BST
DTSTART:20230326T010000
END:DAYLIGHT
BEGIN:STANDARD
TZOFFSETFROM:+0100
TZOFFSETTO:+0000
TZNAME:GMT
DTSTART:20231029T010000
END:STANDARD
BEGIN:DAYLIGHT
TZOFFSETFROM:+0000
TZOFFSETTO:+0100
TZNAME:BST
DTSTART:20240331T010000
END:DAYLIGHT
BEGIN:STANDARD
TZOFFSETFROM:+0100
TZOFFSETTO:+0000
TZNAME:GMT
DTSTART:20241027T010000
END:STANDARD
END:VTIMEZONE
BEGIN:VEVENT
DTSTART;TZID=Europe/London:20230225T100000
DTEND;TZID=Europe/London:20230225T170000
DTSTAMP:20260420T051214
CREATED:20221224T143104Z
LAST-MODIFIED:20221224T152056Z
UID:2226-1677319200-1677344400@kingstonhillwalking.club
SUMMARY:Day walk - The North Downs
DESCRIPTION:Sharon and Tony (with Coco) will lead the day walk It will start at Silent Pool Car Park at 10am. It will be approx. 10\nmiles going through Shere.
URL:https://kingstonhillwalking.club/event/day-walk-0n-the-north-downs/
LOCATION:Surrey
CATEGORIES:Day walk
END:VEVENT
END:VCALENDAR