BEGIN:VCALENDAR
VERSION:2.0
PRODID:-//North Kingston Hillwalking Club - ECPv6.15.17//NONSGML v1.0//EN
CALSCALE:GREGORIAN
METHOD:PUBLISH
X-ORIGINAL-URL:https://kingstonhillwalking.club
X-WR-CALDESC:Events for North Kingston Hillwalking Club
REFRESH-INTERVAL;VALUE=DURATION:PT1H
X-Robots-Tag:noindex
X-PUBLISHED-TTL:PT1H
BEGIN:VTIMEZONE
TZID:Europe/London
BEGIN:DAYLIGHT
TZOFFSETFROM:+0000
TZOFFSETTO:+0100
TZNAME:BST
DTSTART:20170326T010000
END:DAYLIGHT
BEGIN:STANDARD
TZOFFSETFROM:+0100
TZOFFSETTO:+0000
TZNAME:GMT
DTSTART:20171029T010000
END:STANDARD
BEGIN:DAYLIGHT
TZOFFSETFROM:+0000
TZOFFSETTO:+0100
TZNAME:BST
DTSTART:20180325T010000
END:DAYLIGHT
BEGIN:STANDARD
TZOFFSETFROM:+0100
TZOFFSETTO:+0000
TZNAME:GMT
DTSTART:20181028T010000
END:STANDARD
BEGIN:DAYLIGHT
TZOFFSETFROM:+0000
TZOFFSETTO:+0100
TZNAME:BST
DTSTART:20190331T010000
END:DAYLIGHT
BEGIN:STANDARD
TZOFFSETFROM:+0100
TZOFFSETTO:+0000
TZNAME:GMT
DTSTART:20191027T010000
END:STANDARD
BEGIN:DAYLIGHT
TZOFFSETFROM:+0000
TZOFFSETTO:+0100
TZNAME:BST
DTSTART:20200329T010000
END:DAYLIGHT
BEGIN:STANDARD
TZOFFSETFROM:+0100
TZOFFSETTO:+0000
TZNAME:GMT
DTSTART:20201025T010000
END:STANDARD
BEGIN:DAYLIGHT
TZOFFSETFROM:+0000
TZOFFSETTO:+0100
TZNAME:BST
DTSTART:20210328T010000
END:DAYLIGHT
BEGIN:STANDARD
TZOFFSETFROM:+0100
TZOFFSETTO:+0000
TZNAME:GMT
DTSTART:20211031T010000
END:STANDARD
BEGIN:DAYLIGHT
TZOFFSETFROM:+0000
TZOFFSETTO:+0100
TZNAME:BST
DTSTART:20220327T010000
END:DAYLIGHT
BEGIN:STANDARD
TZOFFSETFROM:+0100
TZOFFSETTO:+0000
TZNAME:GMT
DTSTART:20221030T010000
END:STANDARD
BEGIN:DAYLIGHT
TZOFFSETFROM:+0000
TZOFFSETTO:+0100
TZNAME:BST
DTSTART:20230326T010000
END:DAYLIGHT
BEGIN:STANDARD
TZOFFSETFROM:+0100
TZOFFSETTO:+0000
TZNAME:GMT
DTSTART:20231029T010000
END:STANDARD
END:VTIMEZONE
BEGIN:VEVENT
DTSTART;VALUE=DATE:20220813
DTEND;VALUE=DATE:20220814
DTSTAMP:20260421T141104
CREATED:20220808T162747Z
LAST-MODIFIED:20220808T162747Z
UID:2149-1660348800-1660435199@kingstonhillwalking.club
SUMMARY:Day walk on 13 August POSTPONED
DESCRIPTION:Because of the heatwave\, this walk has been rescheduled for 15 October.
URL:https://kingstonhillwalking.club/event/day-walk-aug22/
CATEGORIES:Day walk
END:VEVENT
BEGIN:VEVENT
DTSTART;VALUE=DATE:20220716
DTEND;VALUE=DATE:20220717
DTSTAMP:20260421T141104
CREATED:20220607T152605Z
LAST-MODIFIED:20220711T083350Z
UID:2106-1657929600-1658015999@kingstonhillwalking.club
SUMMARY:Day walk on 16 July - Chilterns
DESCRIPTION:Paul will be organising a day walk in the Chilterns on Saturday 16 July. It is a 10-mile circuit\, roughly between Wendover and Princes Risbourough. We will follow parts of the Ridgeway Trail and the Icknield Way and will take in some nice views from the top of Whiteleaf\, Beacon and Coombe Hills. We pass Chequers\, so could have a last chance to meet the PM. There will be a pub stop at lunchtime for those who want it or bring your own lunch. \nPlease use the comment form below to get in touch about this walk.
URL:https://kingstonhillwalking.club/event/day-walk-july-22/
LOCATION:Chilterns
CATEGORIES:Day walk
END:VEVENT
BEGIN:VEVENT
DTSTART;VALUE=DATE:20220626
DTEND;VALUE=DATE:20220627
DTSTAMP:20260421T141104
CREATED:20220501T085346Z
LAST-MODIFIED:20220617T092934Z
UID:2092-1656201600-1656287999@kingstonhillwalking.club
SUMMARY:Day walk on Sunday 26 June - West Sussex
DESCRIPTION:Sheila is leading this one\, an 8 mile walk starting from the Downs Link car park at Copsale\, south of Horsham. Please bring sandwiches but there is a pub at the end of the walk. \nPlease enable JavaScript in your browser to complete this form.You can get in touch about this walk by leaving a message in this boxYour messageName *FirstLastEmail *CommentSubmit  \n 
URL:https://kingstonhillwalking.club/event/day-walk-june22/
LOCATION:Sussex
CATEGORIES:Day walk
END:VEVENT
BEGIN:VEVENT
DTSTART;VALUE=DATE:20220507
DTEND;VALUE=DATE:20220508
DTSTAMP:20260421T141104
CREATED:20220408T122324Z
LAST-MODIFIED:20220429T152817Z
UID:2075-1651881600-1651967999@kingstonhillwalking.club
SUMMARY:Day walk on 7 May - Henley area
DESCRIPTION:Get your boots on for a great walk through the Henley countryside on Saturday 7 May. This is a 12 mile walk through a variety of countryside in the Chilterns\, starting at Bix bottom near Henley. Please bring lunch / coffee/ cream teas etc
URL:https://kingstonhillwalking.club/event/day-walk-may22/
CATEGORIES:Day walk
END:VEVENT
BEGIN:VEVENT
DTSTART;VALUE=DATE:20220409
DTEND;VALUE=DATE:20220410
DTSTAMP:20260421T141104
CREATED:20220303T212229Z
LAST-MODIFIED:20220328T083436Z
UID:2032-1649462400-1649548799@kingstonhillwalking.club
SUMMARY:Day walk on 9 April - South Downs/Goodwood
DESCRIPTION:Bill will be leading the April day walk on Saturday the 9th in the South Downs Way and Goodwood area. 9.00 am for a 9.30. start as the starting car park gets busy later. Start point on the South Downs Way\, then a 12 mile route via Goodwood and West Dean with several possible refreshment stops. \nPlease use the comment form below to get in touch about this walk
URL:https://kingstonhillwalking.club/event/day-walk-april-22/
CATEGORIES:Day walk
END:VEVENT
BEGIN:VEVENT
DTSTART;VALUE=DATE:20220312
DTEND;VALUE=DATE:20220313
DTSTAMP:20260421T141104
CREATED:20220130T091154Z
LAST-MODIFIED:20220130T091656Z
UID:2005-1647043200-1647129599@kingstonhillwalking.club
SUMMARY:Day walk on 12 March - Shamley Green
DESCRIPTION:Chris is leading this 9.5 mile walk from Shamley Green\, visiting Hascombe with its pond\, lovely 16th and 17th Century cottages and pub\, the White Horse Inn\, for a possible drink. However\, people may prefer to wait until the end of the walk for the choice of 2 pubs or the Speckeldy Hen Coffee Shop at Shamley Green. \nPlease use the comment form below to get in touch about this walk
URL:https://kingstonhillwalking.club/event/day-walk-march22/
LOCATION:Surrey
CATEGORIES:Day walk
END:VEVENT
BEGIN:VEVENT
DTSTART;VALUE=DATE:20220205
DTEND;VALUE=DATE:20220206
DTSTAMP:20260421T141104
CREATED:20211229T140948Z
LAST-MODIFIED:20220123T110321Z
UID:1978-1644019200-1644105599@kingstonhillwalking.club
SUMMARY:Day walk on 5 February - Chilterns
DESCRIPTION:This will be a 10 mile circular walk from Saunderton in the southern Chilterns. It is a mixture of woods and meadows\, with a couple of steep hills and several interesting sites and refreshment options en route. Please use the comment box below to let us know if you are interested in joining us. \n 
URL:https://kingstonhillwalking.club/event/day-walk-february-2022/
LOCATION:Chilterns
CATEGORIES:Day walk
END:VEVENT
BEGIN:VEVENT
DTSTART;VALUE=DATE:20220102
DTEND;VALUE=DATE:20220103
DTSTAMP:20260421T141104
CREATED:20211116T135733Z
LAST-MODIFIED:20220328T134405Z
UID:1952-1641081600-1641167999@kingstonhillwalking.club
SUMMARY:Day walk on 2 January: Hindhead
DESCRIPTION:This New Year’s 9 mile romp on 2 January is taking in the Devil’s Punch Bowl\, Thursley and Gibbet Hill. Hopefully there will be time for a swift drink at Thursley\, if the pub isn’t too busy and/or tea at the NT café at Hindhead. \nA less demanding option of around 7 ½ miles also available. \nMeet outside the NT café at Hindhead at 10.00 am. \n 
URL:https://kingstonhillwalking.club/event/day-walk-january22/
LOCATION:Surrey
CATEGORIES:Day walk
END:VEVENT
BEGIN:VEVENT
DTSTART;VALUE=DATE:20211211
DTEND;VALUE=DATE:20211212
DTSTAMP:20260421T141104
CREATED:20211116T135401Z
LAST-MODIFIED:20220328T134331Z
UID:1947-1639180800-1639267199@kingstonhillwalking.club
SUMMARY:Day walk on 11 December: Surrey heathland
DESCRIPTION:David E will be leading an 8 mile walk starting from Stockbridge Car park GU10 2DD near Tilford at 10.00AM and will take in Hankley\, Frensham\, and Tilford commons.\n\nBring a pack lunch and there is a pub at the end if people are interested. \n 
URL:https://kingstonhillwalking.club/event/day-walk-december21/
LOCATION:Surrey
CATEGORIES:Day walk
END:VEVENT
BEGIN:VEVENT
DTSTART;VALUE=DATE:20211113
DTEND;VALUE=DATE:20211114
DTSTAMP:20260421T141104
CREATED:20211116T135140Z
LAST-MODIFIED:20211116T135547Z
UID:1945-1636761600-1636847999@kingstonhillwalking.club
SUMMARY:Day walk on 13 November: Thames valley
DESCRIPTION:From Hurley along the Thames Path to Mill End then via Hambledon to Marlow on the Shakespeare’s Way and back to Hurley (12.5 miles). \nAdmin note 16/11: Sorry I wasn’t notified of this in time to post it but I’m adding it so the calendar is complete
URL:https://kingstonhillwalking.club/event/day-walk-november21/
CATEGORIES:Day walk
END:VEVENT
BEGIN:VEVENT
DTSTART;VALUE=DATE:20211016
DTEND;VALUE=DATE:20211017
DTSTAMP:20260421T141104
CREATED:20210824T141235Z
LAST-MODIFIED:20211005T151142Z
UID:1921-1634342400-1634428799@kingstonhillwalking.club
SUMMARY:Day walk on 16 October: Chilterns
DESCRIPTION:Sandy will be leading this overdue return to a fine Chilterns walk. \nROUTE \nWe will roughly follow this 11 mile route:  https://www.walkingclub.org.uk/walk/saunderton-via-bledlow-circular/. A big possible shortcut cuts the walk to 6 miles but avoids a pub lunch option in Bledlow. \nSTART\n\n\nSaunderton station (HP14 4LJ\, grid ref SU 815 985. Note this is not very close to Saunderton village). \nStart time 10 am\n\n\n\n\nLUNCH\nPub lunch at the Lions in Bledlow if there is sufficient interest. Otherwise there are a couple of suitable picnic spots in Bledlow.\nThere is also a decent pub near Saunderton station at the end of the walk\, which may be useful if you have to wait for a train home (they are hourly).\n\nPlease use the comment box below to tell us if you are interested in this walk.\n 
URL:https://kingstonhillwalking.club/event/day-walk-oct21/
LOCATION:Chilterns
CATEGORIES:Day walk
END:VEVENT
BEGIN:VEVENT
DTSTART;VALUE=DATE:20210903
DTEND;VALUE=DATE:20210904
DTSTAMP:20260421T141104
CREATED:20210823T201038Z
LAST-MODIFIED:20210823T201203Z
UID:1918-1630627200-1630713599@kingstonhillwalking.club
SUMMARY:Day walk on Friday 3 September - Horsley Diamond Jubilee Trail
DESCRIPTION:Stuart and Linda will be leading a 9 mile walk through the Surrey countryside (HORSLEY DIAMOND JUBILEE TRAIL) starting at East Horsley Station and taking in The Forest\, Effingham Common\, Great Ridings Wood\, Oldlands Wood\, Effingham Forest and Sheepleas. The walk is not strenuous but it is likely to  be muddy in a number of places and appropriate footwear is recommended. \nThe terrain is primarily ancient woodland\, forestry but with some farmland\, common land and wild flower meadows.\nPacked lunches will be required.\n\nWe will meet at the station car par park around 10.30 so as to set at 10.45.
URL:https://kingstonhillwalking.club/event/day-walk-september/
LOCATION:Surrey
CATEGORIES:Day walk
END:VEVENT
BEGIN:VEVENT
DTSTART;VALUE=DATE:20210822
DTEND;VALUE=DATE:20210823
DTSTAMP:20260421T141104
CREATED:20210706T082106Z
LAST-MODIFIED:20220328T134107Z
UID:1891-1629590400-1629676799@kingstonhillwalking.club
SUMMARY:Day walk on 22 August - West Sussex
DESCRIPTION:Sheila is leading a walk in West Sussex on August 22\, starting at Kithurst Hill car park and heading to the lovely village of Amberley then back along the South Downs Way – approx 10 miles.   Please bring a packed lunch. \nAfter the walk there will be the opportunity to head down to Worthing (or thereabouts) for a swim/teashop/pint of beer/glass of wine/fish and chips.\n 
URL:https://kingstonhillwalking.club/event/day-walk-august-2021-west-sussex/
LOCATION:Sussex
CATEGORIES:Day walk
END:VEVENT
BEGIN:VEVENT
DTSTART;VALUE=DATE:20200718
DTEND;VALUE=DATE:20200719
DTSTAMP:20260421T141104
CREATED:20200118T174322Z
LAST-MODIFIED:20220328T133818Z
UID:436-1595030400-1595116799@kingstonhillwalking.club
SUMMARY:Day walk on 18 July
DESCRIPTION:RESCHEDULED Walk in the Meon valley west of Petersfield in Hampshire.
URL:https://kingstonhillwalking.club/event/day-walk-on-18-july/
LOCATION:Hampshire
CATEGORIES:Day walk
END:VEVENT
BEGIN:VEVENT
DTSTART;VALUE=DATE:20200404
DTEND;VALUE=DATE:20200405
DTSTAMP:20260421T141104
CREATED:20200118T174121Z
LAST-MODIFIED:20200812T151304Z
UID:434-1585958400-1586044799@kingstonhillwalking.club
SUMMARY:Day walk on Saturday 4 April CANCELLED
DESCRIPTION:CANCELLED OWING TO CORONAVIRUS
URL:https://kingstonhillwalking.club/event/day-walk-on-saturday-4-april/
CATEGORIES:Day walk
END:VEVENT
BEGIN:VEVENT
DTSTART;VALUE=DATE:20200222
DTEND;VALUE=DATE:20200223
DTSTAMP:20260421T141104
CREATED:20200209T170613Z
LAST-MODIFIED:20200812T151357Z
UID:450-1582329600-1582415999@kingstonhillwalking.club
SUMMARY:Day walk on 22 February
DESCRIPTION:The next NKHC Day Walk is on Saturday 22nd February meeting at 09:45 for a 10:00 starting at Forest Green village.\nThe walk is about 10 miles. There are apparently 3 pubs on the route according to the guide book\, so there could be an option for lunch or a quick pint.\nIt’s probably best to pack a few sandwiches as we’ve been caught out in the past.\nThe route goes via Ockley and Walliswood finishing at Forest Green and the Parrot pub!\nPlease Brian know if you’re interested in joining the walk.
URL:https://kingstonhillwalking.club/event/day-walk-on-22-february/
LOCATION:Surrey
CATEGORIES:Day walk
END:VEVENT
BEGIN:VEVENT
DTSTART;VALUE=DATE:20200209
DTEND;VALUE=DATE:20200210
DTSTAMP:20260421T141104
CREATED:20200118T173601Z
LAST-MODIFIED:20200812T151404Z
UID:427-1581206400-1581292799@kingstonhillwalking.club
SUMMARY:Day walk on Sunday 9 Feb – Ripley and Wey navigation
DESCRIPTION:Linda is leading a walk starting from the car park on Ripley Green grid ref 053 570 for a 10:00 start. There is no charge for parking. \nYou will need to bring a packed lunch\, although we may stop  for a drink at one or two pubs en route and/ or at the end of the walk. \nPlease let Linda know if you plan to come along and if you can offer a lift or need one.
URL:https://kingstonhillwalking.club/event/day-walk-on-sunday-9-feb-ripley-and-wey-navigation/
LOCATION:Surrey
CATEGORIES:Day walk
END:VEVENT
BEGIN:VEVENT
DTSTART;VALUE=DATE:20200111
DTEND;VALUE=DATE:20200112
DTSTAMP:20260421T141104
CREATED:20200118T171456Z
LAST-MODIFIED:20200812T151444Z
UID:397-1578700800-1578787199@kingstonhillwalking.club
SUMMARY:Day walk on Saturday 11 January – London loop
DESCRIPTION:Change of plan owing to rail disruption – this day walk will now be a section of the London Loop\, from Hatton Cross to West Drayton (7 miles) or Uxbridge (11 miles). Hatton Cross and Uxbridge are on the Piccadilly line\, which you can also get back to from West Drayton via Ealing. \nStart: 10 am at Hatton Cross underground station. \nLunch: picnic in Stockley Country Park\, or cafe in West Drayton if the weather is bad. Pub options there are not great but we can find a pub in Uxbridge for post-walk refreshments. \nThe reason for this is that the lines through Surbiton are closed on the weekend of 11/12 January (and the following weekend)\, and I want to be able to get to the start by public transport. Trains are running from Kingston\, Richmond\, Twickenham etc.
URL:https://kingstonhillwalking.club/event/day-walk-on-saturday-11-january-london-loop/
LOCATION:London
CATEGORIES:Day walk
END:VEVENT
BEGIN:VEVENT
DTSTART;VALUE=DATE:20191222
DTEND;VALUE=DATE:20191223
DTSTAMP:20260421T141104
CREATED:20200118T171604Z
LAST-MODIFIED:20200812T151503Z
UID:400-1576972800-1577059199@kingstonhillwalking.club
SUMMARY:Day walk on Sunday 22 December
DESCRIPTION:Pre-Christmas favourite with mulled wine and nibbles: Anne is leading this walk of about 9 miles. Depart 9.45 from Boxhill and Westhumble Station (links in with train from Clapham Junction or Wimbledon) and take in Polesdon Lacey\, beautiful Tanners Hatch YHA where we will eat our packed lunch and drink warming wine\, and Ranmore Common for some views over to the South Downs. We will end up at Denbies Vineyard or The Stepping Stones for a drink (food if we want it) and a warm up. \nParking at Westhumble Station (limited) or Rykers Café (10mins walk away). \nBring your lunch and coffee! \nThe walk WILL go ahead whatever the weather. \n 
URL:https://kingstonhillwalking.club/event/day-walk-on-sunday-22-december/
LOCATION:Surrey
CATEGORIES:Day walk
END:VEVENT
BEGIN:VEVENT
DTSTART;VALUE=DATE:20191013
DTEND;VALUE=DATE:20191014
DTSTAMP:20260421T141104
CREATED:20200118T172212Z
LAST-MODIFIED:20200812T151532Z
UID:408-1570924800-1571011199@kingstonhillwalking.club
SUMMARY:Day walk on Sunday 13 October – Blackheath
DESCRIPTION:On Sunday 13 October Robert is leading a walk from Blackheath car park south of Chilworth at 09:30 (not the Blackheath on London!). It is a 10 1/2 mile walk crossing the Wey Valley to a couple of hillocks on the other side (and they really are only hillocks) and return via Chantry Woods.  A few inclines and several views but not a singe stile.
URL:https://kingstonhillwalking.club/event/day-walk-on-sunday-13-october-blackheath/
LOCATION:Surrey
CATEGORIES:Day walk
END:VEVENT
BEGIN:VEVENT
DTSTART;VALUE=DATE:20190914
DTEND;VALUE=DATE:20190915
DTSTAMP:20260421T141104
CREATED:20200118T172352Z
LAST-MODIFIED:20200812T151603Z
UID:410-1568419200-1568505599@kingstonhillwalking.club
SUMMARY:Day walk on 14 September – Surrey/Sussex border
DESCRIPTION:Sheila will lead this one in the Upper Arun Valley\, on the borders of Surrey/W Sussex OS Exp 34. The walk will start in the village of Rudgwick (GR086335)   Starting time will be 10.15am. \nThis is a 8 mile walk but Sheila may add a couple of miles on  the day if people would like.
URL:https://kingstonhillwalking.club/event/day-walk-on-14-september-surrey-sussex-border/
LOCATION:Sussex
CATEGORIES:Day walk
END:VEVENT
BEGIN:VEVENT
DTSTART;VALUE=DATE:20190817
DTEND;VALUE=DATE:20190818
DTSTAMP:20260421T141104
CREATED:20200118T172450Z
LAST-MODIFIED:20200812T151624Z
UID:412-1566000000-1566086399@kingstonhillwalking.club
SUMMARY:Day walk on 17 August
DESCRIPTION:Sandy’s turn to do this one. \nStarting from Gomshall station car park (grid ref TQ 089 478)\, which still has free parking\, at 10.10 am to allow people to arrive on the 1003 train. Route: via Hoe and Hurt Wood to Holmbury Hill\, Holmbury St Mary\, Leith Hill and back to Gomshall by Abinger Roughs. \nDistance: 14 miles\, or 22km for those more metrically minded.
URL:https://kingstonhillwalking.club/event/day-walk-on-17-august/
LOCATION:Surrey
CATEGORIES:Day walk
END:VEVENT
BEGIN:VEVENT
DTSTART;VALUE=DATE:20190714
DTEND;VALUE=DATE:20190715
DTSTAMP:20260421T141104
CREATED:20200118T172654Z
LAST-MODIFIED:20200812T151630Z
UID:414-1563062400-1563148799@kingstonhillwalking.club
SUMMARY:Day walk on 14 July: Shere Heath
DESCRIPTION:Dave E is organising the next day walk on SUNDAY 14 July. \nStart time: 10 am from Shere Heath (a small car park close to the railway bridge when you have driven through the village\, map ref 072-468 on the Guildford & Farnham map 145). \nThe walk continues through Winterfold Wood to Pitch Hill to stop for a sandwich and look at the view on a nice day \, then on to Peaslake village for a drink in the \nHurtwood Inn\, and then back to Shere. Distance 10 miles.
URL:https://kingstonhillwalking.club/event/day-walk-on-14-july-shere-heath/
LOCATION:Surrey
CATEGORIES:Day walk
END:VEVENT
BEGIN:VEVENT
DTSTART;VALUE=DATE:20190602
DTEND;VALUE=DATE:20190603
DTSTAMP:20260421T141104
CREATED:20200118T173023Z
LAST-MODIFIED:20200812T151648Z
UID:420-1559433600-1559519999@kingstonhillwalking.club
SUMMARY:Day walk on 2 June: the High Chart Challenge
DESCRIPTION:Stuart is leading this walk: The High Chart Challenge (East Surrey – Woldingham) \nDistance: 14 miles – Approx 6 hours. \nLevel of difficulty: Moderate to High (3 quite steep ascents\, 2 of which are quite short. 1 steep descent) \nStarting point: Marden Car Park. Woodlands Trust \, Gangers Hill\,  Woldingham CR3 7AD (nearest post code) \nStart Time: 10 am on June 2nd
URL:https://kingstonhillwalking.club/event/day-walk-on-2-june-the-high-chart-challenge/
LOCATION:Sussex
CATEGORIES:Day walk
END:VEVENT
BEGIN:VEVENT
DTSTART;VALUE=DATE:20190427
DTEND;VALUE=DATE:20190428
DTSTAMP:20260421T141104
CREATED:20200118T173121Z
LAST-MODIFIED:20200812T151715Z
UID:422-1556323200-1556409599@kingstonhillwalking.club
SUMMARY:Day walk on 27 April
DESCRIPTION:Lesley will be leading this one – a circular 10 mile walk through wooded areas of South West Surrey easily reachable by train as well as by car. Taking in Hydon’s Ball and the quaint villages of Hascombe and Hambledon. There should be plenty of bluebells lining much of the route as well as spring lambs in the fields. Bring a packed lunch for a picnic in either the grounds of Hascombe church (very quaint inside) or on the village green. Meet at Witley Station (post code GU8 5TB). Parking is free on Saturdays. There is a train from Clapham Junction at 09.22am arriving at Witley at 10.10am for those wishing to use public transport so we are aiming for a 10.15am sharp start.
URL:https://kingstonhillwalking.club/event/day-walk-on-27-april/
LOCATION:Surrey
CATEGORIES:Day walk
END:VEVENT
BEGIN:VEVENT
DTSTART;VALUE=DATE:20181124
DTEND;VALUE=DATE:20181125
DTSTAMP:20260421T141104
CREATED:20181104T111722Z
LAST-MODIFIED:20200812T151854Z
UID:260-1543017600-1543103999@kingstonhillwalking.club
SUMMARY:Day walk on 24 November
DESCRIPTION:Starting at 10:00 with Linda G leading a 9 mile walk on and around Chobham Common – the largest National Nature Reserve in SE England – and one of Europe’s best protected wildlife sites. \nParking is on the road near to The Four Horseshoes pub\, 13-15 Burrow Hill Green\, Chobham GU24 8QP\, Grid ref 970633.  \nPlease let Linda know if you need   a lift/ can offer a lift.
URL:https://kingstonhillwalking.club/event/day-walk-on-24-november/
LOCATION:Surrey
CATEGORIES:Day walk
END:VEVENT
BEGIN:VEVENT
DTSTART;VALUE=DATE:20181020
DTEND;VALUE=DATE:20181021
DTSTAMP:20260421T141104
CREATED:20181003T131634Z
LAST-MODIFIED:20200812T152209Z
UID:184-1539993600-1540079999@kingstonhillwalking.club
SUMMARY:20 October day walk: Elstead revisited
DESCRIPTION:Chris has kindly offered to resurrect the day walk that didn’t happen in August. It will be a 10 mile circular route from Elstead via Charleshill\, Tilford and Hankley Common.\nThere are pleasant woodland and open heath sections.\nWe will picnic on the extensive green by the river at Tilford\, close to the Barley Mow pub.\nMeet near St James Church at the junction of Thursley Road and Westbrook Hill. Extensive on-street parking available.\nSU 903 434 / GU8 6LQ Start time: 10.00 a m.
URL:https://kingstonhillwalking.club/event/20-october-day-walk-elstead-revisited/
LOCATION:Surrey
CATEGORIES:Day walk
END:VEVENT
BEGIN:VEVENT
DTSTART;VALUE=DATE:20180909
DTEND;VALUE=DATE:20180910
DTSTAMP:20260421T141104
CREATED:20180907T155606Z
LAST-MODIFIED:20200812T152226Z
UID:166-1536451200-1536537599@kingstonhillwalking.club
SUMMARY:Day walk 8 September
DESCRIPTION:Linda and Stuart’s walk on the 8th of September is a 10 miler starting at 10 AM at the pond in Shamley Green (GR 033437). It is next to the Red Lion pub and parking is around the pond area. The walk takes in parts of the Greensand Way and Downs Link. There is a pretty place for lunch in Hascombe at seating around the village pond and the White Horse (just a short way beyond) serves excellent food.\nLinda and Stuart did the walk recently and grade it as easy with no steep hills.
URL:https://kingstonhillwalking.club/event/day-walk-8-september/
CATEGORIES:Day walk
END:VEVENT
BEGIN:VEVENT
DTSTART;VALUE=DATE:20180728
DTEND;VALUE=DATE:20180729
DTSTAMP:20260421T141104
CREATED:20180907T171143Z
LAST-MODIFIED:20200812T152302Z
UID:173-1532736000-1532822399@kingstonhillwalking.club
SUMMARY:Day walk on 28 July
DESCRIPTION:Shira is organising the next walk which will be on Saturday 28th July starting from Haslemere station – 13 Miles taking in Temple of the four winds\, a moated farmstead (no longer in use)\, Greensand Way – more details to follow.
URL:https://kingstonhillwalking.club/event/day-walk-on-28-july/
CATEGORIES:Day walk
END:VEVENT
BEGIN:VEVENT
DTSTART;VALUE=DATE:20180630
DTEND;VALUE=DATE:20180701
DTSTAMP:20260421T141104
CREATED:20181003T133550Z
LAST-MODIFIED:20200812T152258Z
UID:211-1530316800-1530403199@kingstonhillwalking.club
SUMMARY:Day walk from Alton\, 30 June
DESCRIPTION:Charmian organised a 12.7 mile circular walk\, partly along the Hangars Way\, around Alton.
URL:https://kingstonhillwalking.club/event/day-walk-from-alton-30-june/
LOCATION:Surrey
CATEGORIES:Day walk
END:VEVENT
END:VCALENDAR