BEGIN:VCALENDAR
VERSION:2.0
PRODID:-//North Kingston Hillwalking Club - ECPv6.15.17//NONSGML v1.0//EN
CALSCALE:GREGORIAN
METHOD:PUBLISH
X-ORIGINAL-URL:https://kingstonhillwalking.club
X-WR-CALDESC:Events for North Kingston Hillwalking Club
REFRESH-INTERVAL;VALUE=DURATION:PT1H
X-Robots-Tag:noindex
X-PUBLISHED-TTL:PT1H
BEGIN:VTIMEZONE
TZID:Europe/London
BEGIN:DAYLIGHT
TZOFFSETFROM:+0000
TZOFFSETTO:+0100
TZNAME:BST
DTSTART:20160327T010000
END:DAYLIGHT
BEGIN:STANDARD
TZOFFSETFROM:+0100
TZOFFSETTO:+0000
TZNAME:GMT
DTSTART:20161030T010000
END:STANDARD
BEGIN:DAYLIGHT
TZOFFSETFROM:+0000
TZOFFSETTO:+0100
TZNAME:BST
DTSTART:20170326T010000
END:DAYLIGHT
BEGIN:STANDARD
TZOFFSETFROM:+0100
TZOFFSETTO:+0000
TZNAME:GMT
DTSTART:20171029T010000
END:STANDARD
BEGIN:DAYLIGHT
TZOFFSETFROM:+0000
TZOFFSETTO:+0100
TZNAME:BST
DTSTART:20180325T010000
END:DAYLIGHT
BEGIN:STANDARD
TZOFFSETFROM:+0100
TZOFFSETTO:+0000
TZNAME:GMT
DTSTART:20181028T010000
END:STANDARD
BEGIN:DAYLIGHT
TZOFFSETFROM:+0000
TZOFFSETTO:+0100
TZNAME:BST
DTSTART:20190331T010000
END:DAYLIGHT
BEGIN:STANDARD
TZOFFSETFROM:+0100
TZOFFSETTO:+0000
TZNAME:GMT
DTSTART:20191027T010000
END:STANDARD
END:VTIMEZONE
BEGIN:VEVENT
DTSTART;VALUE=DATE:20180512
DTEND;VALUE=DATE:20180513
DTSTAMP:20260421T204531
CREATED:20181019T133210Z
LAST-MODIFIED:20200812T152420Z
UID:247-1526083200-1526169599@kingstonhillwalking.club
SUMMARY:Day walk on 12 May
DESCRIPTION:Dave Ellis has organised a sunny walk for Saturday 12th May. The walk starts at 10:00 a.m. from Milton Heath & the Nower car park\, just west of Dorking\, on the A25 Wescott road. Then we walk via Leith hill and Holmbury hill for a pub lunch in Holbury St Mary/ bring a picnic if preferred.
URL:https://kingstonhillwalking.club/event/day-walk-on-12-may/
LOCATION:Surrey
CATEGORIES:Day walk
END:VEVENT
BEGIN:VEVENT
DTSTART;VALUE=DATE:20180407
DTEND;VALUE=DATE:20180408
DTSTAMP:20260421T204531
CREATED:20181019T132323Z
LAST-MODIFIED:20200812T152456Z
UID:240-1523059200-1523145599@kingstonhillwalking.club
SUMMARY:Day walk on 7 April - North Downs
DESCRIPTION:Lesley is leading a walk on 7 April. Meet at the Reigate Heath parking area off the A25.  O S maps Explorer 146 or Landranger 187. Map ref is TQ 238503. Lesley says: the walk is about 10 miles and some of it could be quite muddy. The plan is to walk up to the North Downs and cross the motorway into Walton Heath and through to Walton on the Hill. We return via Banstead Heath to the delightful Sportsman pub at Mogador\, where we can get a pint\, but please bring sandwiches so that we are not there for too long. We then recross the motorway and follow the North Downs Way to Gatton and Nut Wood\, returning to Reigate Heath via the Greensand Way. There are excellent views across the Weald on this walk.
URL:https://kingstonhillwalking.club/event/day-walk-on-7-april-north-downs/
LOCATION:Surrey
CATEGORIES:Day walk
END:VEVENT
BEGIN:VEVENT
DTSTART;VALUE=DATE:20180310
DTEND;VALUE=DATE:20180311
DTSTAMP:20260421T204531
CREATED:20181019T132020Z
LAST-MODIFIED:20200812T152513Z
UID:234-1520640000-1520726399@kingstonhillwalking.club
SUMMARY:Day walk on 10 March - Oxted
DESCRIPTION:Somewhere a bit different for this walk led by Sandy: a 12 mile (19 km for those metrically minded) circular walk from Oxted\, taking in the grounds of Chartwell House. Once we get out of Oxted\, nearly all the walk is through forest and parkland. Starting at 10 am blunt (if trains are running normally\, there will be one from Victoria/Clapham Junction arriving at 1001) from in front of Oxted station NOT the car park which it turns out is no longer free on Saturdays!
URL:https://kingstonhillwalking.club/event/day-walk-on-10-march-oxted/
LOCATION:Sussex
CATEGORIES:Day walk
END:VEVENT
BEGIN:VEVENT
DTSTART;VALUE=DATE:20180127
DTEND;VALUE=DATE:20180128
DTSTAMP:20260421T204531
CREATED:20181014T160116Z
LAST-MODIFIED:20200812T152534Z
UID:223-1517011200-1517097599@kingstonhillwalking.club
SUMMARY:Day walk at Box Hill\, 27 January
DESCRIPTION:The next day walk will be next Saturday 27 January meeting at 9.45am at the Rikers cafe car park just north of Burford Bridge. If you are travelling by public transport you can get the 465 bus from Kingston and Leatherhead\, or take the train to Box hill and Westhumble station which is a 15 minute walk from the start of the walk. \nThe walk will be approximately 9 miles long and includes Box Hill\, Norbury Park and Headley Health\, stopping for lunch at a local pub. There are many fine viewpoints on this circular walk and in several places you can see your earlier route from a new perspective.
URL:https://kingstonhillwalking.club/event/day-walk-at-box-hill-27-january/
LOCATION:Surrey
CATEGORIES:Day walk
END:VEVENT
BEGIN:VEVENT
DTSTART;VALUE=DATE:20171216
DTEND;VALUE=DATE:20171217
DTSTAMP:20260421T204531
CREATED:20181014T155814Z
LAST-MODIFIED:20200812T152547Z
UID:218-1513382400-1513468799@kingstonhillwalking.club
SUMMARY:Day walk on 16 December - Elstead
DESCRIPTION:Brian will be leading the next day walk on Saturday 16th December starting at Elstead village green (Grid Ref 907437). \nIt’s 10 ½ miles going via Frensham Little Pond\, Rushmoor\, The Devil’s Jumps and Elstead Common. \nAs it’s approaching the shortest day\, can we plan to meet at 09:30 for a 09:45 start. \nThere is a pub at the end of the walk for a festive drink\, but only one posh hotel halfway round\, so please bring packed lunch.
URL:https://kingstonhillwalking.club/event/day-walk-on-16-december-elstead/
LOCATION:Surrey
CATEGORIES:Day walk
END:VEVENT
END:VCALENDAR