BEGIN:VCALENDAR
VERSION:2.0
PRODID:-//North Kingston Hillwalking Club - ECPv6.15.17//NONSGML v1.0//EN
CALSCALE:GREGORIAN
METHOD:PUBLISH
X-WR-CALNAME:North Kingston Hillwalking Club
X-ORIGINAL-URL:https://kingstonhillwalking.club
X-WR-CALDESC:Events for North Kingston Hillwalking Club
REFRESH-INTERVAL;VALUE=DURATION:PT1H
X-Robots-Tag:noindex
X-PUBLISHED-TTL:PT1H
BEGIN:VTIMEZONE
TZID:Europe/London
BEGIN:DAYLIGHT
TZOFFSETFROM:+0000
TZOFFSETTO:+0100
TZNAME:BST
DTSTART:20200329T010000
END:DAYLIGHT
BEGIN:STANDARD
TZOFFSETFROM:+0100
TZOFFSETTO:+0000
TZNAME:GMT
DTSTART:20201025T010000
END:STANDARD
BEGIN:DAYLIGHT
TZOFFSETFROM:+0000
TZOFFSETTO:+0100
TZNAME:BST
DTSTART:20210328T010000
END:DAYLIGHT
BEGIN:STANDARD
TZOFFSETFROM:+0100
TZOFFSETTO:+0000
TZNAME:GMT
DTSTART:20211031T010000
END:STANDARD
BEGIN:DAYLIGHT
TZOFFSETFROM:+0000
TZOFFSETTO:+0100
TZNAME:BST
DTSTART:20220327T010000
END:DAYLIGHT
BEGIN:STANDARD
TZOFFSETFROM:+0100
TZOFFSETTO:+0000
TZNAME:GMT
DTSTART:20221030T010000
END:STANDARD
END:VTIMEZONE
BEGIN:VEVENT
DTSTART;VALUE=DATE:20211018
DTEND;VALUE=DATE:20211023
DTSTAMP:20260420T011227
CREATED:20210317T103622Z
LAST-MODIFIED:20220328T134235Z
UID:654-1634515200-1634947199@kingstonhillwalking.club
SUMMARY:18-22 October: Cornwall MIDWEEK MEET
DESCRIPTION:As we needed to find an alternative venue for October\, we have booked the NT’s Penrose Bunkhouse for four nights from Monday 18 October. This is a departure from our normal modus operandi but it gives us extra nights at a reasonable price close to\, but not in half term holidays and before the clocks change. \nIt’s located right on the South West Coast Path at Chyvarloe in Cornwall. Simple\, but with all the basic facilities you’d expect from a holiday property\, the bunkhouse is heated by a wood burning stove in the living room. But with spectacular sea views\, you probably won’t be spending much time indoors. \nEnjoy a bracing cliff-top stomp along the coast path\, or\, for something a little quicker\, jump on your bike and head out along one of the marked trails on the Penrose estate and around nearby Porthleven. \nWith so much on your doorstep\, including a beautiful beach at Gunwalloe\, you needn’t stray too far. But magnificent West Cornwall has a lot to offer\, not least the spectacular Lizard peninsula\, mainland Britain’s most southerly point. \n 
URL:https://kingstonhillwalking.club/event/october-21-cornwall/
LOCATION:Cornwall
CATEGORIES:Weekend meet
END:VEVENT
END:VCALENDAR