BEGIN:VCALENDAR
VERSION:2.0
PRODID:-//North Kingston Hillwalking Club - ECPv6.15.17//NONSGML v1.0//EN
CALSCALE:GREGORIAN
METHOD:PUBLISH
X-ORIGINAL-URL:https://kingstonhillwalking.club
X-WR-CALDESC:Events for North Kingston Hillwalking Club
REFRESH-INTERVAL;VALUE=DURATION:PT1H
X-Robots-Tag:noindex
X-PUBLISHED-TTL:PT1H
BEGIN:VTIMEZONE
TZID:Europe/London
BEGIN:DAYLIGHT
TZOFFSETFROM:+0000
TZOFFSETTO:+0100
TZNAME:BST
DTSTART:20200329T010000
END:DAYLIGHT
BEGIN:STANDARD
TZOFFSETFROM:+0100
TZOFFSETTO:+0000
TZNAME:GMT
DTSTART:20201025T010000
END:STANDARD
BEGIN:DAYLIGHT
TZOFFSETFROM:+0000
TZOFFSETTO:+0100
TZNAME:BST
DTSTART:20210328T010000
END:DAYLIGHT
BEGIN:STANDARD
TZOFFSETFROM:+0100
TZOFFSETTO:+0000
TZNAME:GMT
DTSTART:20211031T010000
END:STANDARD
BEGIN:DAYLIGHT
TZOFFSETFROM:+0000
TZOFFSETTO:+0100
TZNAME:BST
DTSTART:20220327T010000
END:DAYLIGHT
BEGIN:STANDARD
TZOFFSETFROM:+0100
TZOFFSETTO:+0000
TZNAME:GMT
DTSTART:20221030T010000
END:STANDARD
END:VTIMEZONE
BEGIN:VEVENT
DTSTART;VALUE=DATE:20211126
DTEND;VALUE=DATE:20211129
DTSTAMP:20260419T233442
CREATED:20200221T195223Z
LAST-MODIFIED:20220328T134307Z
UID:453-1637884800-1638143999@kingstonhillwalking.club
SUMMARY:26-28 November: Shropshire; Christmas is not cancelled!
DESCRIPTION:Our December booking has been rearranged for the National Trust Dudmaston Bunkhouse\, situated in a quiet\, remote hamlet in the heart of the Shropshire countryside\, Dudmaston bunkhouse is a barn conversion to comfortable accommodation that sleeps 16 people.  The bunkhouse offers all the basic facilities you’ll need for your stay including some added extras. \nThe bunkhouse comes equipped with a multi-functional dining / meeting room with Wi-Fi and projector\, so it’s perfect for meetings and arranging activities whether that is for work or play.  All the communal rooms are on the ground floor and with a wet room and accessible bedroom\, everyone should feel included. The bunkhouse has nine bedrooms\, so although basic facilities\, guests only share a maximum of two to a room. \nAlthough it’s November\, we reckon Christmas pudding is allowed! \n 
URL:https://kingstonhillwalking.club/event/december-2021-shropshire/
LOCATION:Shropshire
CATEGORIES:Weekend meet
END:VEVENT
END:VCALENDAR