BEGIN:VCALENDAR
VERSION:2.0
PRODID:-//North Kingston Hillwalking Club - ECPv6.15.17//NONSGML v1.0//EN
CALSCALE:GREGORIAN
METHOD:PUBLISH
X-ORIGINAL-URL:https://kingstonhillwalking.club
X-WR-CALDESC:Events for North Kingston Hillwalking Club
REFRESH-INTERVAL;VALUE=DURATION:PT1H
X-Robots-Tag:noindex
X-PUBLISHED-TTL:PT1H
BEGIN:VTIMEZONE
TZID:Europe/London
BEGIN:DAYLIGHT
TZOFFSETFROM:+0000
TZOFFSETTO:+0100
TZNAME:BST
DTSTART:20210328T010000
END:DAYLIGHT
BEGIN:STANDARD
TZOFFSETFROM:+0100
TZOFFSETTO:+0000
TZNAME:GMT
DTSTART:20211031T010000
END:STANDARD
BEGIN:DAYLIGHT
TZOFFSETFROM:+0000
TZOFFSETTO:+0100
TZNAME:BST
DTSTART:20220327T010000
END:DAYLIGHT
BEGIN:STANDARD
TZOFFSETFROM:+0100
TZOFFSETTO:+0000
TZNAME:GMT
DTSTART:20221030T010000
END:STANDARD
BEGIN:DAYLIGHT
TZOFFSETFROM:+0000
TZOFFSETTO:+0100
TZNAME:BST
DTSTART:20230326T010000
END:DAYLIGHT
BEGIN:STANDARD
TZOFFSETFROM:+0100
TZOFFSETTO:+0000
TZNAME:GMT
DTSTART:20231029T010000
END:STANDARD
END:VTIMEZONE
BEGIN:VEVENT
DTSTART;VALUE=DATE:20220612
DTEND;VALUE=DATE:20220620
DTSTAMP:20260425T222815
CREATED:20200518T154029Z
LAST-MODIFIED:20220301T155350Z
UID:471-1654992000-1655683199@kingstonhillwalking.club
SUMMARY:June 12-19: Club Scottish holiday\, Glenshiel Lodge
DESCRIPTION:RESCHEDULED FROM 2020 – The Club is returning to Glenshiel Lodge (see website here) where we have had a couple of successful weeks in the past. We have had to move the booking again from 2021. Note this is a Sunday-Sunday booking. \nGlenshiel Lodge is just to the south of Shiel Bridge in Kintail\, literally in the shadow of the famous Saddle and Five Sisters of Kintail. There are 21 Munros in Glen Shiel no less\, and numerous other hills within striking distance\, not least those on the Isle of Skye. \nSorry this trip was FULLY BOOKED when it was planned for 2020; I will update this post if any places become available.
URL:https://kingstonhillwalking.club/event/june-2022-scotland/
LOCATION:Scotland
CATEGORIES:Club holiday
END:VEVENT
BEGIN:VEVENT
DTSTART;VALUE=DATE:20220626
DTEND;VALUE=DATE:20220627
DTSTAMP:20260425T222815
CREATED:20220501T085346Z
LAST-MODIFIED:20220617T092934Z
UID:2092-1656201600-1656287999@kingstonhillwalking.club
SUMMARY:Day walk on Sunday 26 June - West Sussex
DESCRIPTION:Sheila is leading this one\, an 8 mile walk starting from the Downs Link car park at Copsale\, south of Horsham. Please bring sandwiches but there is a pub at the end of the walk. \nPlease enable JavaScript in your browser to complete this form.You can get in touch about this walk by leaving a message in this boxYour messageName *FirstLastEmail *PhoneSubmit  \n 
URL:https://kingstonhillwalking.club/event/day-walk-june22/
LOCATION:Sussex
CATEGORIES:Day walk
END:VEVENT
END:VCALENDAR