BEGIN:VCALENDAR
VERSION:2.0
PRODID:-//North Kingston Hillwalking Club - ECPv6.15.17//NONSGML v1.0//EN
CALSCALE:GREGORIAN
METHOD:PUBLISH
X-WR-CALNAME:North Kingston Hillwalking Club
X-ORIGINAL-URL:https://kingstonhillwalking.club
X-WR-CALDESC:Events for North Kingston Hillwalking Club
REFRESH-INTERVAL;VALUE=DURATION:PT1H
X-Robots-Tag:noindex
X-PUBLISHED-TTL:PT1H
BEGIN:VTIMEZONE
TZID:Europe/London
BEGIN:DAYLIGHT
TZOFFSETFROM:+0000
TZOFFSETTO:+0100
TZNAME:BST
DTSTART:20220327T010000
END:DAYLIGHT
BEGIN:STANDARD
TZOFFSETFROM:+0100
TZOFFSETTO:+0000
TZNAME:GMT
DTSTART:20221030T010000
END:STANDARD
BEGIN:DAYLIGHT
TZOFFSETFROM:+0000
TZOFFSETTO:+0100
TZNAME:BST
DTSTART:20230326T010000
END:DAYLIGHT
BEGIN:STANDARD
TZOFFSETFROM:+0100
TZOFFSETTO:+0000
TZNAME:GMT
DTSTART:20231029T010000
END:STANDARD
BEGIN:DAYLIGHT
TZOFFSETFROM:+0000
TZOFFSETTO:+0100
TZNAME:BST
DTSTART:20240331T010000
END:DAYLIGHT
BEGIN:STANDARD
TZOFFSETFROM:+0100
TZOFFSETTO:+0000
TZNAME:GMT
DTSTART:20241027T010000
END:STANDARD
END:VTIMEZONE
BEGIN:VEVENT
DTSTART;VALUE=DATE:20230414
DTEND;VALUE=DATE:20230417
DTSTAMP:20260420T001202
CREATED:20220125T182145Z
LAST-MODIFIED:20220403T154653Z
UID:2002-1681430400-1681689599@kingstonhillwalking.club
SUMMARY:14-16 April 2023: Lakes - Patterdale
DESCRIPTION:An overdue return to the brilliantly situated George Starkey hut (see website) in Patterdale\, which aims to recreate the ambience of a traditional alpine hut (it is co-owned by the Alpine Club and Swiss Alpine Club) but has been substantially refurbished since our last visit. \nPlease use the comment form below to get in touch about this weekend
URL:https://kingstonhillwalking.club/event/april-2023-lakes/
LOCATION:Lakes
CATEGORIES:Weekend meet
END:VEVENT
BEGIN:VEVENT
DTSTART;TZID=Europe/London:20230421T100000
DTEND;TZID=Europe/London:20230421T170000
DTSTAMP:20260420T001202
CREATED:20230213T175336Z
LAST-MODIFIED:20230213T175336Z
UID:2253-1682071200-1682096400@kingstonhillwalking.club
SUMMARY:Day Walk - Parts of Sussex Border Path and the West Sussex Literary Trail
DESCRIPTION:Walking parts of the Sussex Border Path and the West Sussex Literary Trail\, and with views to the North and South Downs\, we will seek out swathes of wild garlic\, bluebells and early Rhododendrons (I hope) within some beautiful countryside. \nIt will be 10miles from the village of Warnham. The train station is one mile from the start  – there isn’t parking at Warnham Station. Start time will be 10am. Lunch – picnic (or possibly a pub – TBC) and there will be the option of drinks at one of Warnham’s two pubs at the end.
URL:https://kingstonhillwalking.club/event/day-walk-parts-of-sussex-border-path-and-the-west-sussex-literary-trail/
LOCATION:Sussex
CATEGORIES:Day walk
END:VEVENT
END:VCALENDAR