BEGIN:VCALENDAR
VERSION:2.0
PRODID:-//North Kingston Hillwalking Club - ECPv6.15.17//NONSGML v1.0//EN
CALSCALE:GREGORIAN
METHOD:PUBLISH
X-ORIGINAL-URL:https://kingstonhillwalking.club
X-WR-CALDESC:Events for North Kingston Hillwalking Club
REFRESH-INTERVAL;VALUE=DURATION:PT1H
X-Robots-Tag:noindex
X-PUBLISHED-TTL:PT1H
BEGIN:VTIMEZONE
TZID:Europe/London
BEGIN:DAYLIGHT
TZOFFSETFROM:+0000
TZOFFSETTO:+0100
TZNAME:BST
DTSTART:20220327T010000
END:DAYLIGHT
BEGIN:STANDARD
TZOFFSETFROM:+0100
TZOFFSETTO:+0000
TZNAME:GMT
DTSTART:20221030T010000
END:STANDARD
BEGIN:DAYLIGHT
TZOFFSETFROM:+0000
TZOFFSETTO:+0100
TZNAME:BST
DTSTART:20230326T010000
END:DAYLIGHT
BEGIN:STANDARD
TZOFFSETFROM:+0100
TZOFFSETTO:+0000
TZNAME:GMT
DTSTART:20231029T010000
END:STANDARD
BEGIN:DAYLIGHT
TZOFFSETFROM:+0000
TZOFFSETTO:+0100
TZNAME:BST
DTSTART:20240331T010000
END:DAYLIGHT
BEGIN:STANDARD
TZOFFSETFROM:+0100
TZOFFSETTO:+0000
TZNAME:GMT
DTSTART:20241027T010000
END:STANDARD
END:VTIMEZONE
BEGIN:VEVENT
DTSTART;VALUE=DATE:20230603
DTEND;VALUE=DATE:20230611
DTSTAMP:20260419T203933
CREATED:20230426T105640Z
LAST-MODIFIED:20230426T105640Z
UID:2269-1685750400-1686441599@kingstonhillwalking.club
SUMMARY:June 3-10: Club Scottish holiday\, Speyside
DESCRIPTION:Barry has booked accommodation at Glenlivet House\, Ballindalloch \nFULLY BOOKED
URL:https://kingstonhillwalking.club/event/june-23-scotland/
LOCATION:Scotland
CATEGORIES:Club holiday
END:VEVENT
BEGIN:VEVENT
DTSTART;VALUE=DATE:20230618
DTEND;VALUE=DATE:20230619
DTSTAMP:20260419T203933
CREATED:20230426T105238Z
LAST-MODIFIED:20230426T105238Z
UID:2266-1687046400-1687132799@kingstonhillwalking.club
SUMMARY:Day walk - Box Hill
DESCRIPTION:Details to follow
URL:https://kingstonhillwalking.club/event/day-walk-june/
LOCATION:Surrey
CATEGORIES:Day walk
END:VEVENT
END:VCALENDAR